BEGIN:VCALENDAR
VERSION:2.0
PRODID:-//hacksw/handcal//NONSGML v1.0//EN
BEGIN:VEVENT
UID:2606H0220260610T000000Z
DTSTAMP:20260420T100526Z
ORGANIZER;CN=Útivist:MAILTO:utivist@utivist.is
DTSTART:20260610T000000Z
DTEND:20260612T000000Z
SUMMARY:Helgarferð í Bása í Þórsmörk með fararstjórum Fjallabralls
END:VEVENT
END:VCALENDAR
